BEGIN:VCALENDAR
VERSION:2.0
PRODID:LFV Website-Kit
METHOD:PUBLISH
BEGIN:VEVENT
UID:lfv-a1b9e095-9d4b-4c68-b60f-dc8e5e9c128a
LOCATION:
SUMMARY:125 Jahre FF Maierhofen
DESCRIPTION:Termin Link: https://www.feuerwehr-painten.de/termine/125-jahre-ff-maierhofen/
URL:https://www.feuerwehr-painten.de/termine/125-jahre-ff-maierhofen/
CLASS:PRIVATE
DTSTART;VALUE=DATE:20260626
DTEND;VALUE=DATE:20260629
DTSTAMP:20260420T084806Z
END:VEVENT
END:VCALENDAR